BEGIN:VCALENDAR
VERSION:2.0
PRODID:-//Com.It.Es. Polonia - ECPv6.15.20//NONSGML v1.0//EN
CALSCALE:GREGORIAN
METHOD:PUBLISH
X-ORIGINAL-URL:https://comitespolonia.pl
X-WR-CALDESC:Eventi per Com.It.Es. Polonia
REFRESH-INTERVAL;VALUE=DURATION:PT1H
X-Robots-Tag:noindex
X-PUBLISHED-TTL:PT1H
BEGIN:VTIMEZONE
TZID:Europe/Warsaw
BEGIN:DAYLIGHT
TZOFFSETFROM:+0100
TZOFFSETTO:+0200
TZNAME:CEST
DTSTART:20240331T010000
END:DAYLIGHT
BEGIN:STANDARD
TZOFFSETFROM:+0200
TZOFFSETTO:+0100
TZNAME:CET
DTSTART:20241027T010000
END:STANDARD
BEGIN:DAYLIGHT
TZOFFSETFROM:+0100
TZOFFSETTO:+0200
TZNAME:CEST
DTSTART:20250330T010000
END:DAYLIGHT
BEGIN:STANDARD
TZOFFSETFROM:+0200
TZOFFSETTO:+0100
TZNAME:CET
DTSTART:20251026T010000
END:STANDARD
BEGIN:DAYLIGHT
TZOFFSETFROM:+0100
TZOFFSETTO:+0200
TZNAME:CEST
DTSTART:20260329T010000
END:DAYLIGHT
BEGIN:STANDARD
TZOFFSETFROM:+0200
TZOFFSETTO:+0100
TZNAME:CET
DTSTART:20261025T010000
END:STANDARD
END:VTIMEZONE
BEGIN:VEVENT
DTSTART;TZID=Europe/Warsaw:20251122T103000
DTEND;TZID=Europe/Warsaw:20251122T120000
DTSTAMP:20260419T135205
CREATED:20251103T073048Z
LAST-MODIFIED:20251104T113432Z
UID:2066-1763807400-1763812800@comitespolonia.pl
SUMMARY:CUCINA ITALIANA IN FAMIGLIA — TRA GUSTO E GIOCO 🇮🇹🍅 - VARSAVIA
DESCRIPTION:Evento ideato dalla Fondazione Bottega Italiana; coordinato e coorganizzato con il Comites Polonia e la Trattoria Flaminia nell’ambito della Settimana della Cucina Italiana nel Mondo 2025. \n👨‍👩‍👧‍👦 Per chi è?\nUn appuntamento speciale per genitori e bambini: scopriamo insieme le buone abitudini della dieta mediterranea… giocando e cucinando! \n🍽️ Cosa faremo \nGenitori: consigli pratici sulle buone abitudini della dieta mediterranea\, idee per riconoscere i sapori e il piacere di gustare i cibi lentamente.\nBambini (dai 2 ai 12 anni): laboratorio ludico e mini–cucina con degustazione finale in famiglia. \n💶 Quota di iscrizione\n20 zł / bambino\, da pagare il giorno dell’evento in loco e solo in contanti. Per i bambini iscritti alla Fondazione\, la partecipazione è già inclusa nella quota annuale. \n📝 Prenotazione (entro il 18/11)\nPer riservare il posto è necessaria la compilazione del form (Posti limitati: prenota subito!) \n📞 Contatti\nVarsavia: Fondazione Bottega Italiana – bottegaitaliana.pl@gmail.com – 509 312 471 \nℹ️ In caso di allergie o intolleranze\, segnalatele nel form di iscrizione.\nVi aspettiamo per cucinare\, giocare e imparare… insieme! 🍞🧀🥗\nAlla fine dell’incontro\, chi desidera può fermarsi a pranzo.
URL:https://comitespolonia.pl/event/cucina-italiana-in-famiglia-tra-gusto-e-gioco-varsavia/
LOCATION:Trattoria Flaminia\, ul. Zygmunta Krasińskiego 41\, Varsavia\, Poland
CATEGORIES:Eventi
ORGANIZER;CN="Fondazione Bottega Italiana":MAILTO:bottegaitaliana.pl@gmail.com
END:VEVENT
END:VCALENDAR